BEGIN:VCALENDAR
VERSION:2.0
PRODID:-//Duluth Township in Northern Minnesota - ECPv6.15.20//NONSGML v1.0//EN
CALSCALE:GREGORIAN
METHOD:PUBLISH
X-WR-CALNAME:Duluth Township in Northern Minnesota
X-ORIGINAL-URL:https://www.duluthtownship.gov
X-WR-CALDESC:Events for Duluth Township in Northern Minnesota
REFRESH-INTERVAL;VALUE=DURATION:PT1H
X-Robots-Tag:noindex
X-PUBLISHED-TTL:PT1H
BEGIN:VTIMEZONE
TZID:America/Chicago
BEGIN:DAYLIGHT
TZOFFSETFROM:-0600
TZOFFSETTO:-0500
TZNAME:CDT
DTSTART:20250309T080000
END:DAYLIGHT
BEGIN:STANDARD
TZOFFSETFROM:-0500
TZOFFSETTO:-0600
TZNAME:CST
DTSTART:20251102T070000
END:STANDARD
BEGIN:DAYLIGHT
TZOFFSETFROM:-0600
TZOFFSETTO:-0500
TZNAME:CDT
DTSTART:20260308T080000
END:DAYLIGHT
BEGIN:STANDARD
TZOFFSETFROM:-0500
TZOFFSETTO:-0600
TZNAME:CST
DTSTART:20261101T070000
END:STANDARD
BEGIN:DAYLIGHT
TZOFFSETFROM:-0600
TZOFFSETTO:-0500
TZNAME:CDT
DTSTART:20270314T080000
END:DAYLIGHT
BEGIN:STANDARD
TZOFFSETFROM:-0500
TZOFFSETTO:-0600
TZNAME:CST
DTSTART:20271107T070000
END:STANDARD
END:VTIMEZONE
BEGIN:VEVENT
DTSTART;TZID=America/Chicago:20260203T070000
DTEND;TZID=America/Chicago:20260203T110000
DTSTAMP:20260420T051421
CREATED:20251119T221716Z
LAST-MODIFIED:20260318T162305Z
UID:10003496-1770102000-1770116400@www.duluthtownship.gov
SUMMARY:Winter Recycling Hours
DESCRIPTION:
URL:https://www.duluthtownship.gov/event/winter-recycling-hours-2/2026-02-03/
END:VEVENT
BEGIN:VEVENT
DTSTART;TZID=America/Chicago:20260203T090000
DTEND;TZID=America/Chicago:20260203T120000
DTSTAMP:20260420T051421
CREATED:20250904T181818Z
LAST-MODIFIED:20260304T191409Z
UID:10002565-1770109200-1770120000@www.duluthtownship.gov
SUMMARY:Clerk Hours
DESCRIPTION:
URL:https://www.duluthtownship.gov/event/clerk-hours-8/2026-02-03/
END:VEVENT
BEGIN:VEVENT
DTSTART;TZID=America/Chicago:20260203T140000
DTEND;TZID=America/Chicago:20260203T180000
DTSTAMP:20260420T051421
CREATED:20251119T221811Z
LAST-MODIFIED:20260318T162200Z
UID:10003568-1770127200-1770141600@www.duluthtownship.gov
SUMMARY:Winter Recycling Hours
DESCRIPTION:
URL:https://www.duluthtownship.gov/event/winter-recycling-hours-3/2026-02-03/
END:VEVENT
BEGIN:VEVENT
DTSTART;TZID=America/Chicago:20260204T100000
DTEND;TZID=America/Chicago:20260204T160000
DTSTAMP:20260420T051421
CREATED:20250904T182853Z
LAST-MODIFIED:20251120T203831Z
UID:10003712-1770199200-1770220800@www.duluthtownship.gov
SUMMARY:Clerk Hours
DESCRIPTION:
URL:https://www.duluthtownship.gov/event/clerk-hours-3/2026-02-04/
END:VEVENT
BEGIN:VEVENT
DTSTART;TZID=America/Chicago:20260204T123000
DTEND;TZID=America/Chicago:20260204T140000
DTSTAMP:20260420T051421
CREATED:20250529T173929Z
LAST-MODIFIED:20250529T173929Z
UID:10002412-1770208200-1770213600@www.duluthtownship.gov
SUMMARY:Homesteaders
DESCRIPTION:
URL:https://www.duluthtownship.gov/event/homesteaders-3/2026-02-04/
END:VEVENT
BEGIN:VEVENT
DTSTART;TZID=America/Chicago:20260205T090000
DTEND;TZID=America/Chicago:20260205T170000
DTSTAMP:20260420T051421
CREATED:20250318T172841Z
LAST-MODIFIED:20251218T173225Z
UID:10002180-1770282000-1770310800@www.duluthtownship.gov
SUMMARY:Clerk Hours
DESCRIPTION:
URL:https://www.duluthtownship.gov/event/clerk-hours-5-2/2026-02-05/
END:VEVENT
BEGIN:VEVENT
DTSTART;TZID=America/Chicago:20260205T140000
DTEND;TZID=America/Chicago:20260205T180000
DTSTAMP:20260420T051421
CREATED:20251119T221606Z
LAST-MODIFIED:20260318T162435Z
UID:10003425-1770300000-1770314400@www.duluthtownship.gov
SUMMARY:Winter Recycling Hours
DESCRIPTION:
URL:https://www.duluthtownship.gov/event/winter-recycling-hours/2026-02-05/
END:VEVENT
BEGIN:VEVENT
DTSTART;TZID=America/Chicago:20260206T090000
DTEND;TZID=America/Chicago:20260206T120000
DTSTAMP:20260420T051421
CREATED:20241002T144650Z
LAST-MODIFIED:20260304T191255Z
UID:10001145-1770368400-1770379200@www.duluthtownship.gov
SUMMARY:Clerk Hours
DESCRIPTION:
URL:https://www.duluthtownship.gov/event/clerk-hours-7/2026-02-06/
END:VEVENT
BEGIN:VEVENT
DTSTART;TZID=America/Chicago:20260207T080000
DTEND;TZID=America/Chicago:20260207T120000
DTSTAMP:20260420T051421
CREATED:20251119T221856Z
LAST-MODIFIED:20260318T162356Z
UID:10003641-1770451200-1770465600@www.duluthtownship.gov
SUMMARY:Winter Recycling Hours
DESCRIPTION:
URL:https://www.duluthtownship.gov/event/winter-recycling-hours-4/2026-02-07/
END:VEVENT
BEGIN:VEVENT
DTSTART;TZID=America/Chicago:20260210T070000
DTEND;TZID=America/Chicago:20260210T110000
DTSTAMP:20260420T051421
CREATED:20251119T221716Z
LAST-MODIFIED:20260318T162305Z
UID:10003497-1770706800-1770721200@www.duluthtownship.gov
SUMMARY:Winter Recycling Hours
DESCRIPTION:
URL:https://www.duluthtownship.gov/event/winter-recycling-hours-2/2026-02-10/
END:VEVENT
BEGIN:VEVENT
DTSTART;TZID=America/Chicago:20260210T090000
DTEND;TZID=America/Chicago:20260210T120000
DTSTAMP:20260420T051421
CREATED:20250904T181818Z
LAST-MODIFIED:20260304T191409Z
UID:10002566-1770714000-1770724800@www.duluthtownship.gov
SUMMARY:Clerk Hours
DESCRIPTION:
URL:https://www.duluthtownship.gov/event/clerk-hours-8/2026-02-10/
END:VEVENT
BEGIN:VEVENT
DTSTART;TZID=America/Chicago:20260210T140000
DTEND;TZID=America/Chicago:20260210T180000
DTSTAMP:20260420T051421
CREATED:20251119T221811Z
LAST-MODIFIED:20260318T162200Z
UID:10003569-1770732000-1770746400@www.duluthtownship.gov
SUMMARY:Winter Recycling Hours
DESCRIPTION:
URL:https://www.duluthtownship.gov/event/winter-recycling-hours-3/2026-02-10/
END:VEVENT
BEGIN:VEVENT
DTSTART;TZID=America/Chicago:20260211T100000
DTEND;TZID=America/Chicago:20260211T160000
DTSTAMP:20260420T051421
CREATED:20250904T182853Z
LAST-MODIFIED:20251120T203831Z
UID:10003713-1770804000-1770825600@www.duluthtownship.gov
SUMMARY:Clerk Hours
DESCRIPTION:
URL:https://www.duluthtownship.gov/event/clerk-hours-3/2026-02-11/
END:VEVENT
BEGIN:VEVENT
DTSTART;TZID=America/Chicago:20260212T090000
DTEND;TZID=America/Chicago:20260212T170000
DTSTAMP:20260420T051421
CREATED:20250318T172841Z
LAST-MODIFIED:20251218T173225Z
UID:10002181-1770886800-1770915600@www.duluthtownship.gov
SUMMARY:Clerk Hours
DESCRIPTION:
URL:https://www.duluthtownship.gov/event/clerk-hours-5-2/2026-02-12/
END:VEVENT
BEGIN:VEVENT
DTSTART;TZID=America/Chicago:20260212T140000
DTEND;TZID=America/Chicago:20260212T180000
DTSTAMP:20260420T051421
CREATED:20251119T221606Z
LAST-MODIFIED:20260318T162435Z
UID:10003426-1770904800-1770919200@www.duluthtownship.gov
SUMMARY:Winter Recycling Hours
DESCRIPTION:
URL:https://www.duluthtownship.gov/event/winter-recycling-hours/2026-02-12/
END:VEVENT
BEGIN:VEVENT
DTSTART;TZID=America/Chicago:20260212T183000
DTEND;TZID=America/Chicago:20260212T210000
DTSTAMP:20260420T051421
CREATED:20241002T143345Z
LAST-MODIFIED:20241002T143644Z
UID:10000249-1770921000-1770930000@www.duluthtownship.gov
SUMMARY:Town Board Meeting
DESCRIPTION:
URL:https://www.duluthtownship.gov/event/town-board-meeting-3/2026-02-12/
END:VEVENT
BEGIN:VEVENT
DTSTART;TZID=America/Chicago:20260213T090000
DTEND;TZID=America/Chicago:20260213T120000
DTSTAMP:20260420T051421
CREATED:20241002T144650Z
LAST-MODIFIED:20260304T191255Z
UID:10001146-1770973200-1770984000@www.duluthtownship.gov
SUMMARY:Clerk Hours
DESCRIPTION:
URL:https://www.duluthtownship.gov/event/clerk-hours-7/2026-02-13/
END:VEVENT
BEGIN:VEVENT
DTSTART;TZID=America/Chicago:20260214T080000
DTEND;TZID=America/Chicago:20260214T120000
DTSTAMP:20260420T051421
CREATED:20251119T221856Z
LAST-MODIFIED:20260318T162356Z
UID:10003642-1771056000-1771070400@www.duluthtownship.gov
SUMMARY:Winter Recycling Hours
DESCRIPTION:
URL:https://www.duluthtownship.gov/event/winter-recycling-hours-4/2026-02-14/
END:VEVENT
BEGIN:VEVENT
DTSTART;TZID=America/Chicago:20260217T070000
DTEND;TZID=America/Chicago:20260217T110000
DTSTAMP:20260420T051421
CREATED:20251119T221716Z
LAST-MODIFIED:20260318T162305Z
UID:10003498-1771311600-1771326000@www.duluthtownship.gov
SUMMARY:Winter Recycling Hours
DESCRIPTION:
URL:https://www.duluthtownship.gov/event/winter-recycling-hours-2/2026-02-17/
END:VEVENT
BEGIN:VEVENT
DTSTART;TZID=America/Chicago:20260217T090000
DTEND;TZID=America/Chicago:20260217T120000
DTSTAMP:20260420T051421
CREATED:20250904T181818Z
LAST-MODIFIED:20260304T191409Z
UID:10002567-1771318800-1771329600@www.duluthtownship.gov
SUMMARY:Clerk Hours
DESCRIPTION:
URL:https://www.duluthtownship.gov/event/clerk-hours-8/2026-02-17/
END:VEVENT
BEGIN:VEVENT
DTSTART;TZID=America/Chicago:20260217T140000
DTEND;TZID=America/Chicago:20260217T180000
DTSTAMP:20260420T051421
CREATED:20251119T221811Z
LAST-MODIFIED:20260318T162200Z
UID:10003570-1771336800-1771351200@www.duluthtownship.gov
SUMMARY:Winter Recycling Hours
DESCRIPTION:
URL:https://www.duluthtownship.gov/event/winter-recycling-hours-3/2026-02-17/
END:VEVENT
BEGIN:VEVENT
DTSTART;TZID=America/Chicago:20260218T100000
DTEND;TZID=America/Chicago:20260218T160000
DTSTAMP:20260420T051421
CREATED:20250904T182853Z
LAST-MODIFIED:20251120T203831Z
UID:10003714-1771408800-1771430400@www.duluthtownship.gov
SUMMARY:Clerk Hours
DESCRIPTION:
URL:https://www.duluthtownship.gov/event/clerk-hours-3/2026-02-18/
END:VEVENT
BEGIN:VEVENT
DTSTART;TZID=America/Chicago:20260219T090000
DTEND;TZID=America/Chicago:20260219T170000
DTSTAMP:20260420T051421
CREATED:20250318T172841Z
LAST-MODIFIED:20251218T173225Z
UID:10002182-1771491600-1771520400@www.duluthtownship.gov
SUMMARY:Clerk Hours
DESCRIPTION:
URL:https://www.duluthtownship.gov/event/clerk-hours-5-2/2026-02-19/
END:VEVENT
BEGIN:VEVENT
DTSTART;TZID=America/Chicago:20260219T140000
DTEND;TZID=America/Chicago:20260219T180000
DTSTAMP:20260420T051421
CREATED:20251119T221606Z
LAST-MODIFIED:20260318T162435Z
UID:10003427-1771509600-1771524000@www.duluthtownship.gov
SUMMARY:Winter Recycling Hours
DESCRIPTION:
URL:https://www.duluthtownship.gov/event/winter-recycling-hours/2026-02-19/
END:VEVENT
BEGIN:VEVENT
DTSTART;TZID=America/Chicago:20260220T090000
DTEND;TZID=America/Chicago:20260220T120000
DTSTAMP:20260420T051421
CREATED:20241002T144650Z
LAST-MODIFIED:20260304T191255Z
UID:10001147-1771578000-1771588800@www.duluthtownship.gov
SUMMARY:Clerk Hours
DESCRIPTION:
URL:https://www.duluthtownship.gov/event/clerk-hours-7/2026-02-20/
END:VEVENT
BEGIN:VEVENT
DTSTART;TZID=America/Chicago:20260221T080000
DTEND;TZID=America/Chicago:20260221T120000
DTSTAMP:20260420T051421
CREATED:20251119T221856Z
LAST-MODIFIED:20260318T162356Z
UID:10003643-1771660800-1771675200@www.duluthtownship.gov
SUMMARY:Winter Recycling Hours
DESCRIPTION:
URL:https://www.duluthtownship.gov/event/winter-recycling-hours-4/2026-02-21/
END:VEVENT
BEGIN:VEVENT
DTSTART;TZID=America/Chicago:20260224T070000
DTEND;TZID=America/Chicago:20260224T110000
DTSTAMP:20260420T051421
CREATED:20251119T221716Z
LAST-MODIFIED:20260318T162305Z
UID:10003499-1771916400-1771930800@www.duluthtownship.gov
SUMMARY:Winter Recycling Hours
DESCRIPTION:
URL:https://www.duluthtownship.gov/event/winter-recycling-hours-2/2026-02-24/
END:VEVENT
BEGIN:VEVENT
DTSTART;TZID=America/Chicago:20260224T090000
DTEND;TZID=America/Chicago:20260224T120000
DTSTAMP:20260420T051421
CREATED:20250904T181818Z
LAST-MODIFIED:20260304T191409Z
UID:10002568-1771923600-1771934400@www.duluthtownship.gov
SUMMARY:Clerk Hours
DESCRIPTION:
URL:https://www.duluthtownship.gov/event/clerk-hours-8/2026-02-24/
END:VEVENT
BEGIN:VEVENT
DTSTART;TZID=America/Chicago:20260224T140000
DTEND;TZID=America/Chicago:20260224T180000
DTSTAMP:20260420T051421
CREATED:20251119T221811Z
LAST-MODIFIED:20260318T162200Z
UID:10003571-1771941600-1771956000@www.duluthtownship.gov
SUMMARY:Winter Recycling Hours
DESCRIPTION:
URL:https://www.duluthtownship.gov/event/winter-recycling-hours-3/2026-02-24/
END:VEVENT
BEGIN:VEVENT
DTSTART;TZID=America/Chicago:20260225T100000
DTEND;TZID=America/Chicago:20260225T160000
DTSTAMP:20260420T051421
CREATED:20250904T182853Z
LAST-MODIFIED:20251120T203831Z
UID:10003715-1772013600-1772035200@www.duluthtownship.gov
SUMMARY:Clerk Hours
DESCRIPTION:
URL:https://www.duluthtownship.gov/event/clerk-hours-3/2026-02-25/
END:VEVENT
END:VCALENDAR