BEGIN:VCALENDAR
VERSION:2.0
PRODID:-//Duluth Township in Northern Minnesota - ECPv6.15.20//NONSGML v1.0//EN
CALSCALE:GREGORIAN
METHOD:PUBLISH
X-WR-CALNAME:Duluth Township in Northern Minnesota
X-ORIGINAL-URL:https://www.duluthtownship.gov
X-WR-CALDESC:Events for Duluth Township in Northern Minnesota
REFRESH-INTERVAL;VALUE=DURATION:PT1H
X-Robots-Tag:noindex
X-PUBLISHED-TTL:PT1H
BEGIN:VTIMEZONE
TZID:America/Chicago
BEGIN:DAYLIGHT
TZOFFSETFROM:-0600
TZOFFSETTO:-0500
TZNAME:CDT
DTSTART:20250309T080000
END:DAYLIGHT
BEGIN:STANDARD
TZOFFSETFROM:-0500
TZOFFSETTO:-0600
TZNAME:CST
DTSTART:20251102T070000
END:STANDARD
BEGIN:DAYLIGHT
TZOFFSETFROM:-0600
TZOFFSETTO:-0500
TZNAME:CDT
DTSTART:20260308T080000
END:DAYLIGHT
BEGIN:STANDARD
TZOFFSETFROM:-0500
TZOFFSETTO:-0600
TZNAME:CST
DTSTART:20261101T070000
END:STANDARD
BEGIN:DAYLIGHT
TZOFFSETFROM:-0600
TZOFFSETTO:-0500
TZNAME:CDT
DTSTART:20270314T080000
END:DAYLIGHT
BEGIN:STANDARD
TZOFFSETFROM:-0500
TZOFFSETTO:-0600
TZNAME:CST
DTSTART:20271107T070000
END:STANDARD
END:VTIMEZONE
BEGIN:VEVENT
DTSTART;TZID=America/Chicago:20261103T090000
DTEND;TZID=America/Chicago:20261103T120000
DTSTAMP:20260422T071142
CREATED:20250904T181818Z
LAST-MODIFIED:20260304T191409Z
UID:10002604-1793696400-1793707200@www.duluthtownship.gov
SUMMARY:Clerk Hours
DESCRIPTION:
URL:https://www.duluthtownship.gov/event/clerk-hours-8/2026-11-03/
END:VEVENT
BEGIN:VEVENT
DTSTART;TZID=America/Chicago:20261104T100000
DTEND;TZID=America/Chicago:20261104T160000
DTSTAMP:20260422T071142
CREATED:20250904T182853Z
LAST-MODIFIED:20251120T203831Z
UID:10003751-1793786400-1793808000@www.duluthtownship.gov
SUMMARY:Clerk Hours
DESCRIPTION:
URL:https://www.duluthtownship.gov/event/clerk-hours-3/2026-11-04/
END:VEVENT
BEGIN:VEVENT
DTSTART;TZID=America/Chicago:20261104T123000
DTEND;TZID=America/Chicago:20261104T140000
DTSTAMP:20260422T071142
CREATED:20250529T173929Z
LAST-MODIFIED:20250529T173929Z
UID:10002421-1793795400-1793800800@www.duluthtownship.gov
SUMMARY:Homesteaders
DESCRIPTION:
URL:https://www.duluthtownship.gov/event/homesteaders-3/2026-11-04/
END:VEVENT
BEGIN:VEVENT
DTSTART;TZID=America/Chicago:20261105T090000
DTEND;TZID=America/Chicago:20261105T170000
DTSTAMP:20260422T071142
CREATED:20250318T172841Z
LAST-MODIFIED:20251218T173225Z
UID:10002219-1793869200-1793898000@www.duluthtownship.gov
SUMMARY:Clerk Hours
DESCRIPTION:
URL:https://www.duluthtownship.gov/event/clerk-hours-5-2/2026-11-05/
END:VEVENT
BEGIN:VEVENT
DTSTART;TZID=America/Chicago:20261106T090000
DTEND;TZID=America/Chicago:20261106T120000
DTSTAMP:20260422T071142
CREATED:20241002T144650Z
LAST-MODIFIED:20260304T191255Z
UID:10001184-1793955600-1793966400@www.duluthtownship.gov
SUMMARY:Clerk Hours
DESCRIPTION:
URL:https://www.duluthtownship.gov/event/clerk-hours-7/2026-11-06/
END:VEVENT
BEGIN:VEVENT
DTSTART;TZID=America/Chicago:20261110T090000
DTEND;TZID=America/Chicago:20261110T120000
DTSTAMP:20260422T071142
CREATED:20250904T181818Z
LAST-MODIFIED:20260304T191409Z
UID:10002605-1794301200-1794312000@www.duluthtownship.gov
SUMMARY:Clerk Hours
DESCRIPTION:
URL:https://www.duluthtownship.gov/event/clerk-hours-8/2026-11-10/
END:VEVENT
BEGIN:VEVENT
DTSTART;TZID=America/Chicago:20261111T100000
DTEND;TZID=America/Chicago:20261111T160000
DTSTAMP:20260422T071142
CREATED:20250904T182853Z
LAST-MODIFIED:20251120T203831Z
UID:10003752-1794391200-1794412800@www.duluthtownship.gov
SUMMARY:Clerk Hours
DESCRIPTION:
URL:https://www.duluthtownship.gov/event/clerk-hours-3/2026-11-11/
END:VEVENT
BEGIN:VEVENT
DTSTART;TZID=America/Chicago:20261112T090000
DTEND;TZID=America/Chicago:20261112T170000
DTSTAMP:20260422T071142
CREATED:20250318T172841Z
LAST-MODIFIED:20251218T173225Z
UID:10002220-1794474000-1794502800@www.duluthtownship.gov
SUMMARY:Clerk Hours
DESCRIPTION:
URL:https://www.duluthtownship.gov/event/clerk-hours-5-2/2026-11-12/
END:VEVENT
BEGIN:VEVENT
DTSTART;TZID=America/Chicago:20261112T183000
DTEND;TZID=America/Chicago:20261112T210000
DTSTAMP:20260422T071142
CREATED:20241002T143345Z
LAST-MODIFIED:20241002T143644Z
UID:10000258-1794508200-1794517200@www.duluthtownship.gov
SUMMARY:Town Board Meeting
DESCRIPTION:
URL:https://www.duluthtownship.gov/event/town-board-meeting-3/2026-11-12/
END:VEVENT
BEGIN:VEVENT
DTSTART;TZID=America/Chicago:20261113T090000
DTEND;TZID=America/Chicago:20261113T120000
DTSTAMP:20260422T071142
CREATED:20241002T144650Z
LAST-MODIFIED:20260304T191255Z
UID:10001185-1794560400-1794571200@www.duluthtownship.gov
SUMMARY:Clerk Hours
DESCRIPTION:
URL:https://www.duluthtownship.gov/event/clerk-hours-7/2026-11-13/
END:VEVENT
BEGIN:VEVENT
DTSTART;TZID=America/Chicago:20261117T090000
DTEND;TZID=America/Chicago:20261117T120000
DTSTAMP:20260422T071142
CREATED:20250904T181818Z
LAST-MODIFIED:20260304T191409Z
UID:10002606-1794906000-1794916800@www.duluthtownship.gov
SUMMARY:Clerk Hours
DESCRIPTION:
URL:https://www.duluthtownship.gov/event/clerk-hours-8/2026-11-17/
END:VEVENT
BEGIN:VEVENT
DTSTART;TZID=America/Chicago:20261118T100000
DTEND;TZID=America/Chicago:20261118T160000
DTSTAMP:20260422T071142
CREATED:20250904T182853Z
LAST-MODIFIED:20251120T203831Z
UID:10003753-1794996000-1795017600@www.duluthtownship.gov
SUMMARY:Clerk Hours
DESCRIPTION:
URL:https://www.duluthtownship.gov/event/clerk-hours-3/2026-11-18/
END:VEVENT
BEGIN:VEVENT
DTSTART;TZID=America/Chicago:20261119T090000
DTEND;TZID=America/Chicago:20261119T170000
DTSTAMP:20260422T071142
CREATED:20250318T172841Z
LAST-MODIFIED:20251218T173225Z
UID:10002221-1795078800-1795107600@www.duluthtownship.gov
SUMMARY:Clerk Hours
DESCRIPTION:
URL:https://www.duluthtownship.gov/event/clerk-hours-5-2/2026-11-19/
END:VEVENT
BEGIN:VEVENT
DTSTART;TZID=America/Chicago:20261120T090000
DTEND;TZID=America/Chicago:20261120T120000
DTSTAMP:20260422T071142
CREATED:20241002T144650Z
LAST-MODIFIED:20260304T191255Z
UID:10001186-1795165200-1795176000@www.duluthtownship.gov
SUMMARY:Clerk Hours
DESCRIPTION:
URL:https://www.duluthtownship.gov/event/clerk-hours-7/2026-11-20/
END:VEVENT
BEGIN:VEVENT
DTSTART;TZID=America/Chicago:20261124T090000
DTEND;TZID=America/Chicago:20261124T120000
DTSTAMP:20260422T071142
CREATED:20250904T181818Z
LAST-MODIFIED:20260304T191409Z
UID:10002607-1795510800-1795521600@www.duluthtownship.gov
SUMMARY:Clerk Hours
DESCRIPTION:
URL:https://www.duluthtownship.gov/event/clerk-hours-8/2026-11-24/
END:VEVENT
BEGIN:VEVENT
DTSTART;TZID=America/Chicago:20261125T100000
DTEND;TZID=America/Chicago:20261125T160000
DTSTAMP:20260422T071142
CREATED:20250904T182853Z
LAST-MODIFIED:20251120T203831Z
UID:10003754-1795600800-1795622400@www.duluthtownship.gov
SUMMARY:Clerk Hours
DESCRIPTION:
URL:https://www.duluthtownship.gov/event/clerk-hours-3/2026-11-25/
END:VEVENT
BEGIN:VEVENT
DTSTART;TZID=America/Chicago:20261126T090000
DTEND;TZID=America/Chicago:20261126T170000
DTSTAMP:20260422T071142
CREATED:20250318T172841Z
LAST-MODIFIED:20251218T173225Z
UID:10002222-1795683600-1795712400@www.duluthtownship.gov
SUMMARY:Clerk Hours
DESCRIPTION:
URL:https://www.duluthtownship.gov/event/clerk-hours-5-2/2026-11-26/
END:VEVENT
BEGIN:VEVENT
DTSTART;TZID=America/Chicago:20261126T183000
DTEND;TZID=America/Chicago:20261126T210000
DTSTAMP:20260422T071142
CREATED:20241002T143512Z
LAST-MODIFIED:20251119T220014Z
UID:10000198-1795717800-1795726800@www.duluthtownship.gov
SUMMARY:Planning Commission Meeting
DESCRIPTION:
URL:https://www.duluthtownship.gov/event/planning-commission-meeting-3/2026-11-26/
END:VEVENT
BEGIN:VEVENT
DTSTART;TZID=America/Chicago:20261127T090000
DTEND;TZID=America/Chicago:20261127T120000
DTSTAMP:20260422T071142
CREATED:20241002T144650Z
LAST-MODIFIED:20260304T191255Z
UID:10001187-1795770000-1795780800@www.duluthtownship.gov
SUMMARY:Clerk Hours
DESCRIPTION:
URL:https://www.duluthtownship.gov/event/clerk-hours-7/2026-11-27/
END:VEVENT
END:VCALENDAR