BEGIN:VCALENDAR
VERSION:2.0
PRODID:-//Duluth Township in Northern Minnesota - ECPv6.15.20//NONSGML v1.0//EN
CALSCALE:GREGORIAN
METHOD:PUBLISH
X-ORIGINAL-URL:https://www.duluthtownship.gov
X-WR-CALDESC:Events for Duluth Township in Northern Minnesota
REFRESH-INTERVAL;VALUE=DURATION:PT1H
X-Robots-Tag:noindex
X-PUBLISHED-TTL:PT1H
BEGIN:VTIMEZONE
TZID:America/Chicago
BEGIN:DAYLIGHT
TZOFFSETFROM:-0600
TZOFFSETTO:-0500
TZNAME:CDT
DTSTART:20250309T080000
END:DAYLIGHT
BEGIN:STANDARD
TZOFFSETFROM:-0500
TZOFFSETTO:-0600
TZNAME:CST
DTSTART:20251102T070000
END:STANDARD
BEGIN:DAYLIGHT
TZOFFSETFROM:-0600
TZOFFSETTO:-0500
TZNAME:CDT
DTSTART:20260308T080000
END:DAYLIGHT
BEGIN:STANDARD
TZOFFSETFROM:-0500
TZOFFSETTO:-0600
TZNAME:CST
DTSTART:20261101T070000
END:STANDARD
BEGIN:DAYLIGHT
TZOFFSETFROM:-0600
TZOFFSETTO:-0500
TZNAME:CDT
DTSTART:20270314T080000
END:DAYLIGHT
BEGIN:STANDARD
TZOFFSETFROM:-0500
TZOFFSETTO:-0600
TZNAME:CST
DTSTART:20271107T070000
END:STANDARD
END:VTIMEZONE
BEGIN:VEVENT
DTSTART;TZID=America/Chicago:20261201T090000
DTEND;TZID=America/Chicago:20261201T120000
DTSTAMP:20260422T085940
CREATED:20250904T181818Z
LAST-MODIFIED:20260304T191409Z
UID:10002608-1796115600-1796126400@www.duluthtownship.gov
SUMMARY:Clerk Hours
DESCRIPTION:
URL:https://www.duluthtownship.gov/event/clerk-hours-8/2026-12-01/
END:VEVENT
BEGIN:VEVENT
DTSTART;TZID=America/Chicago:20261202T100000
DTEND;TZID=America/Chicago:20261202T160000
DTSTAMP:20260422T085940
CREATED:20250904T182853Z
LAST-MODIFIED:20251120T203831Z
UID:10003755-1796205600-1796227200@www.duluthtownship.gov
SUMMARY:Clerk Hours
DESCRIPTION:
URL:https://www.duluthtownship.gov/event/clerk-hours-3/2026-12-02/
END:VEVENT
BEGIN:VEVENT
DTSTART;TZID=America/Chicago:20261202T123000
DTEND;TZID=America/Chicago:20261202T140000
DTSTAMP:20260422T085940
CREATED:20250529T173929Z
LAST-MODIFIED:20250529T173929Z
UID:10002422-1796214600-1796220000@www.duluthtownship.gov
SUMMARY:Homesteaders
DESCRIPTION:
URL:https://www.duluthtownship.gov/event/homesteaders-3/2026-12-02/
END:VEVENT
BEGIN:VEVENT
DTSTART;TZID=America/Chicago:20261203T090000
DTEND;TZID=America/Chicago:20261203T170000
DTSTAMP:20260422T085940
CREATED:20250318T172841Z
LAST-MODIFIED:20251218T173225Z
UID:10002223-1796288400-1796317200@www.duluthtownship.gov
SUMMARY:Clerk Hours
DESCRIPTION:
URL:https://www.duluthtownship.gov/event/clerk-hours-5-2/2026-12-03/
END:VEVENT
BEGIN:VEVENT
DTSTART;TZID=America/Chicago:20261204T090000
DTEND;TZID=America/Chicago:20261204T120000
DTSTAMP:20260422T085940
CREATED:20241002T144650Z
LAST-MODIFIED:20260304T191255Z
UID:10001188-1796374800-1796385600@www.duluthtownship.gov
SUMMARY:Clerk Hours
DESCRIPTION:
URL:https://www.duluthtownship.gov/event/clerk-hours-7/2026-12-04/
END:VEVENT
BEGIN:VEVENT
DTSTART;TZID=America/Chicago:20261208T090000
DTEND;TZID=America/Chicago:20261208T120000
DTSTAMP:20260422T085940
CREATED:20250904T181818Z
LAST-MODIFIED:20260304T191409Z
UID:10002609-1796720400-1796731200@www.duluthtownship.gov
SUMMARY:Clerk Hours
DESCRIPTION:
URL:https://www.duluthtownship.gov/event/clerk-hours-8/2026-12-08/
END:VEVENT
BEGIN:VEVENT
DTSTART;TZID=America/Chicago:20261209T100000
DTEND;TZID=America/Chicago:20261209T160000
DTSTAMP:20260422T085940
CREATED:20250904T182853Z
LAST-MODIFIED:20251120T203831Z
UID:10003756-1796810400-1796832000@www.duluthtownship.gov
SUMMARY:Clerk Hours
DESCRIPTION:
URL:https://www.duluthtownship.gov/event/clerk-hours-3/2026-12-09/
END:VEVENT
BEGIN:VEVENT
DTSTART;TZID=America/Chicago:20261210T090000
DTEND;TZID=America/Chicago:20261210T170000
DTSTAMP:20260422T085940
CREATED:20250318T172841Z
LAST-MODIFIED:20251218T173225Z
UID:10002224-1796893200-1796922000@www.duluthtownship.gov
SUMMARY:Clerk Hours
DESCRIPTION:
URL:https://www.duluthtownship.gov/event/clerk-hours-5-2/2026-12-10/
END:VEVENT
BEGIN:VEVENT
DTSTART;TZID=America/Chicago:20261210T183000
DTEND;TZID=America/Chicago:20261210T210000
DTSTAMP:20260422T085940
CREATED:20241002T143345Z
LAST-MODIFIED:20241002T143644Z
UID:10000259-1796927400-1796936400@www.duluthtownship.gov
SUMMARY:Town Board Meeting
DESCRIPTION:
URL:https://www.duluthtownship.gov/event/town-board-meeting-3/2026-12-10/
END:VEVENT
BEGIN:VEVENT
DTSTART;TZID=America/Chicago:20261211T090000
DTEND;TZID=America/Chicago:20261211T120000
DTSTAMP:20260422T085940
CREATED:20241002T144650Z
LAST-MODIFIED:20260304T191255Z
UID:10001189-1796979600-1796990400@www.duluthtownship.gov
SUMMARY:Clerk Hours
DESCRIPTION:
URL:https://www.duluthtownship.gov/event/clerk-hours-7/2026-12-11/
END:VEVENT
BEGIN:VEVENT
DTSTART;TZID=America/Chicago:20261215T090000
DTEND;TZID=America/Chicago:20261215T120000
DTSTAMP:20260422T085940
CREATED:20250904T181818Z
LAST-MODIFIED:20260304T191409Z
UID:10002610-1797325200-1797336000@www.duluthtownship.gov
SUMMARY:Clerk Hours
DESCRIPTION:
URL:https://www.duluthtownship.gov/event/clerk-hours-8/2026-12-15/
END:VEVENT
BEGIN:VEVENT
DTSTART;TZID=America/Chicago:20261216T100000
DTEND;TZID=America/Chicago:20261216T160000
DTSTAMP:20260422T085940
CREATED:20250904T182853Z
LAST-MODIFIED:20251120T203831Z
UID:10003757-1797415200-1797436800@www.duluthtownship.gov
SUMMARY:Clerk Hours
DESCRIPTION:
URL:https://www.duluthtownship.gov/event/clerk-hours-3/2026-12-16/
END:VEVENT
BEGIN:VEVENT
DTSTART;TZID=America/Chicago:20261217T090000
DTEND;TZID=America/Chicago:20261217T170000
DTSTAMP:20260422T085940
CREATED:20250318T172841Z
LAST-MODIFIED:20251218T173225Z
UID:10002225-1797498000-1797526800@www.duluthtownship.gov
SUMMARY:Clerk Hours
DESCRIPTION:
URL:https://www.duluthtownship.gov/event/clerk-hours-5-2/2026-12-17/
END:VEVENT
BEGIN:VEVENT
DTSTART;TZID=America/Chicago:20261218T090000
DTEND;TZID=America/Chicago:20261218T120000
DTSTAMP:20260422T085940
CREATED:20241002T144650Z
LAST-MODIFIED:20260304T191255Z
UID:10001190-1797584400-1797595200@www.duluthtownship.gov
SUMMARY:Clerk Hours
DESCRIPTION:
URL:https://www.duluthtownship.gov/event/clerk-hours-7/2026-12-18/
END:VEVENT
BEGIN:VEVENT
DTSTART;TZID=America/Chicago:20261222T090000
DTEND;TZID=America/Chicago:20261222T120000
DTSTAMP:20260422T085940
CREATED:20250904T181818Z
LAST-MODIFIED:20260304T191409Z
UID:10002611-1797930000-1797940800@www.duluthtownship.gov
SUMMARY:Clerk Hours
DESCRIPTION:
URL:https://www.duluthtownship.gov/event/clerk-hours-8/2026-12-22/
END:VEVENT
BEGIN:VEVENT
DTSTART;TZID=America/Chicago:20261223T100000
DTEND;TZID=America/Chicago:20261223T160000
DTSTAMP:20260422T085940
CREATED:20250904T182853Z
LAST-MODIFIED:20251120T203831Z
UID:10003758-1798020000-1798041600@www.duluthtownship.gov
SUMMARY:Clerk Hours
DESCRIPTION:
URL:https://www.duluthtownship.gov/event/clerk-hours-3/2026-12-23/
END:VEVENT
BEGIN:VEVENT
DTSTART;TZID=America/Chicago:20261224T090000
DTEND;TZID=America/Chicago:20261224T170000
DTSTAMP:20260422T085940
CREATED:20250318T172841Z
LAST-MODIFIED:20251218T173225Z
UID:10002226-1798102800-1798131600@www.duluthtownship.gov
SUMMARY:Clerk Hours
DESCRIPTION:
URL:https://www.duluthtownship.gov/event/clerk-hours-5-2/2026-12-24/
END:VEVENT
BEGIN:VEVENT
DTSTART;TZID=America/Chicago:20261224T183000
DTEND;TZID=America/Chicago:20261224T210000
DTSTAMP:20260422T085940
CREATED:20241002T143512Z
LAST-MODIFIED:20251119T220014Z
UID:10000199-1798137000-1798146000@www.duluthtownship.gov
SUMMARY:Planning Commission Meeting
DESCRIPTION:
URL:https://www.duluthtownship.gov/event/planning-commission-meeting-3/2026-12-24/
END:VEVENT
BEGIN:VEVENT
DTSTART;TZID=America/Chicago:20261225T090000
DTEND;TZID=America/Chicago:20261225T120000
DTSTAMP:20260422T085940
CREATED:20241002T144650Z
LAST-MODIFIED:20260304T191255Z
UID:10001191-1798189200-1798200000@www.duluthtownship.gov
SUMMARY:Clerk Hours
DESCRIPTION:
URL:https://www.duluthtownship.gov/event/clerk-hours-7/2026-12-25/
END:VEVENT
BEGIN:VEVENT
DTSTART;TZID=America/Chicago:20261229T090000
DTEND;TZID=America/Chicago:20261229T120000
DTSTAMP:20260422T085940
CREATED:20250904T181818Z
LAST-MODIFIED:20260304T191409Z
UID:10002612-1798534800-1798545600@www.duluthtownship.gov
SUMMARY:Clerk Hours
DESCRIPTION:
URL:https://www.duluthtownship.gov/event/clerk-hours-8/2026-12-29/
END:VEVENT
BEGIN:VEVENT
DTSTART;TZID=America/Chicago:20261230T100000
DTEND;TZID=America/Chicago:20261230T160000
DTSTAMP:20260422T085940
CREATED:20250904T182853Z
LAST-MODIFIED:20251120T203831Z
UID:10003759-1798624800-1798646400@www.duluthtownship.gov
SUMMARY:Clerk Hours
DESCRIPTION:
URL:https://www.duluthtownship.gov/event/clerk-hours-3/2026-12-30/
END:VEVENT
BEGIN:VEVENT
DTSTART;TZID=America/Chicago:20261231T090000
DTEND;TZID=America/Chicago:20261231T170000
DTSTAMP:20260422T085940
CREATED:20250318T172841Z
LAST-MODIFIED:20251218T173225Z
UID:10002227-1798707600-1798736400@www.duluthtownship.gov
SUMMARY:Clerk Hours
DESCRIPTION:
URL:https://www.duluthtownship.gov/event/clerk-hours-5-2/2026-12-31/
END:VEVENT
END:VCALENDAR