BEGIN:VCALENDAR
VERSION:2.0
PRODID:-//Duluth Township in Northern Minnesota - ECPv6.15.20//NONSGML v1.0//EN
CALSCALE:GREGORIAN
METHOD:PUBLISH
X-WR-CALNAME:Duluth Township in Northern Minnesota
X-ORIGINAL-URL:https://www.duluthtownship.gov
X-WR-CALDESC:Events for Duluth Township in Northern Minnesota
REFRESH-INTERVAL;VALUE=DURATION:PT1H
X-Robots-Tag:noindex
X-PUBLISHED-TTL:PT1H
BEGIN:VTIMEZONE
TZID:America/Chicago
BEGIN:DAYLIGHT
TZOFFSETFROM:-0600
TZOFFSETTO:-0500
TZNAME:CDT
DTSTART:20260308T080000
END:DAYLIGHT
BEGIN:STANDARD
TZOFFSETFROM:-0500
TZOFFSETTO:-0600
TZNAME:CST
DTSTART:20261101T070000
END:STANDARD
BEGIN:DAYLIGHT
TZOFFSETFROM:-0600
TZOFFSETTO:-0500
TZNAME:CDT
DTSTART:20270314T080000
END:DAYLIGHT
BEGIN:STANDARD
TZOFFSETFROM:-0500
TZOFFSETTO:-0600
TZNAME:CST
DTSTART:20271107T070000
END:STANDARD
BEGIN:DAYLIGHT
TZOFFSETFROM:-0600
TZOFFSETTO:-0500
TZNAME:CDT
DTSTART:20280312T080000
END:DAYLIGHT
BEGIN:STANDARD
TZOFFSETFROM:-0500
TZOFFSETTO:-0600
TZNAME:CST
DTSTART:20281105T070000
END:STANDARD
END:VTIMEZONE
BEGIN:VEVENT
DTSTART;TZID=America/Chicago:20270101T090000
DTEND;TZID=America/Chicago:20270101T120000
DTSTAMP:20260424T031905
CREATED:20241002T144650Z
LAST-MODIFIED:20260304T191255Z
UID:10001192-1798794000-1798804800@www.duluthtownship.gov
SUMMARY:Clerk Hours
DESCRIPTION:
URL:https://www.duluthtownship.gov/event/clerk-hours-7/2027-01-01/
END:VEVENT
BEGIN:VEVENT
DTSTART;TZID=America/Chicago:20270105T090000
DTEND;TZID=America/Chicago:20270105T120000
DTSTAMP:20260424T031905
CREATED:20250904T181818Z
LAST-MODIFIED:20260304T191409Z
UID:10002613-1799139600-1799150400@www.duluthtownship.gov
SUMMARY:Clerk Hours
DESCRIPTION:
URL:https://www.duluthtownship.gov/event/clerk-hours-8/2027-01-05/
END:VEVENT
BEGIN:VEVENT
DTSTART;TZID=America/Chicago:20270106T100000
DTEND;TZID=America/Chicago:20270106T160000
DTSTAMP:20260424T031905
CREATED:20250904T182853Z
LAST-MODIFIED:20251120T203831Z
UID:10003760-1799229600-1799251200@www.duluthtownship.gov
SUMMARY:Clerk Hours
DESCRIPTION:
URL:https://www.duluthtownship.gov/event/clerk-hours-3/2027-01-06/
END:VEVENT
BEGIN:VEVENT
DTSTART;TZID=America/Chicago:20270106T123000
DTEND;TZID=America/Chicago:20270106T140000
DTSTAMP:20260424T031905
CREATED:20250529T173929Z
LAST-MODIFIED:20250529T173929Z
UID:10002423-1799238600-1799244000@www.duluthtownship.gov
SUMMARY:Homesteaders
DESCRIPTION:
URL:https://www.duluthtownship.gov/event/homesteaders-3/2027-01-06/
END:VEVENT
BEGIN:VEVENT
DTSTART;TZID=America/Chicago:20270107T090000
DTEND;TZID=America/Chicago:20270107T170000
DTSTAMP:20260424T031905
CREATED:20250318T172841Z
LAST-MODIFIED:20251218T173225Z
UID:10002228-1799312400-1799341200@www.duluthtownship.gov
SUMMARY:Clerk Hours
DESCRIPTION:
URL:https://www.duluthtownship.gov/event/clerk-hours-5-2/2027-01-07/
END:VEVENT
BEGIN:VEVENT
DTSTART;TZID=America/Chicago:20270108T090000
DTEND;TZID=America/Chicago:20270108T120000
DTSTAMP:20260424T031905
CREATED:20241002T144650Z
LAST-MODIFIED:20260304T191255Z
UID:10001193-1799398800-1799409600@www.duluthtownship.gov
SUMMARY:Clerk Hours
DESCRIPTION:
URL:https://www.duluthtownship.gov/event/clerk-hours-7/2027-01-08/
END:VEVENT
BEGIN:VEVENT
DTSTART;TZID=America/Chicago:20270112T090000
DTEND;TZID=America/Chicago:20270112T120000
DTSTAMP:20260424T031905
CREATED:20250904T181818Z
LAST-MODIFIED:20260304T191409Z
UID:10002614-1799744400-1799755200@www.duluthtownship.gov
SUMMARY:Clerk Hours
DESCRIPTION:
URL:https://www.duluthtownship.gov/event/clerk-hours-8/2027-01-12/
END:VEVENT
BEGIN:VEVENT
DTSTART;TZID=America/Chicago:20270113T100000
DTEND;TZID=America/Chicago:20270113T160000
DTSTAMP:20260424T031905
CREATED:20250904T182853Z
LAST-MODIFIED:20251120T203831Z
UID:10003761-1799834400-1799856000@www.duluthtownship.gov
SUMMARY:Clerk Hours
DESCRIPTION:
URL:https://www.duluthtownship.gov/event/clerk-hours-3/2027-01-13/
END:VEVENT
BEGIN:VEVENT
DTSTART;TZID=America/Chicago:20270114T090000
DTEND;TZID=America/Chicago:20270114T170000
DTSTAMP:20260424T031905
CREATED:20250318T172841Z
LAST-MODIFIED:20251218T173225Z
UID:10002229-1799917200-1799946000@www.duluthtownship.gov
SUMMARY:Clerk Hours
DESCRIPTION:
URL:https://www.duluthtownship.gov/event/clerk-hours-5-2/2027-01-14/
END:VEVENT
BEGIN:VEVENT
DTSTART;TZID=America/Chicago:20270114T183000
DTEND;TZID=America/Chicago:20270114T210000
DTSTAMP:20260424T031905
CREATED:20241002T143345Z
LAST-MODIFIED:20241002T143644Z
UID:10000260-1799951400-1799960400@www.duluthtownship.gov
SUMMARY:Town Board Meeting
DESCRIPTION:
URL:https://www.duluthtownship.gov/event/town-board-meeting-3/2027-01-14/
END:VEVENT
BEGIN:VEVENT
DTSTART;TZID=America/Chicago:20270115T090000
DTEND;TZID=America/Chicago:20270115T120000
DTSTAMP:20260424T031905
CREATED:20241002T144650Z
LAST-MODIFIED:20260304T191255Z
UID:10001194-1800003600-1800014400@www.duluthtownship.gov
SUMMARY:Clerk Hours
DESCRIPTION:
URL:https://www.duluthtownship.gov/event/clerk-hours-7/2027-01-15/
END:VEVENT
BEGIN:VEVENT
DTSTART;TZID=America/Chicago:20270119T090000
DTEND;TZID=America/Chicago:20270119T120000
DTSTAMP:20260424T031905
CREATED:20250904T181818Z
LAST-MODIFIED:20260304T191409Z
UID:10002615-1800349200-1800360000@www.duluthtownship.gov
SUMMARY:Clerk Hours
DESCRIPTION:
URL:https://www.duluthtownship.gov/event/clerk-hours-8/2027-01-19/
END:VEVENT
BEGIN:VEVENT
DTSTART;TZID=America/Chicago:20270120T100000
DTEND;TZID=America/Chicago:20270120T160000
DTSTAMP:20260424T031905
CREATED:20250904T182853Z
LAST-MODIFIED:20251120T203831Z
UID:10003762-1800439200-1800460800@www.duluthtownship.gov
SUMMARY:Clerk Hours
DESCRIPTION:
URL:https://www.duluthtownship.gov/event/clerk-hours-3/2027-01-20/
END:VEVENT
BEGIN:VEVENT
DTSTART;TZID=America/Chicago:20270121T090000
DTEND;TZID=America/Chicago:20270121T170000
DTSTAMP:20260424T031905
CREATED:20250318T172841Z
LAST-MODIFIED:20251218T173225Z
UID:10002230-1800522000-1800550800@www.duluthtownship.gov
SUMMARY:Clerk Hours
DESCRIPTION:
URL:https://www.duluthtownship.gov/event/clerk-hours-5-2/2027-01-21/
END:VEVENT
BEGIN:VEVENT
DTSTART;TZID=America/Chicago:20270122T090000
DTEND;TZID=America/Chicago:20270122T120000
DTSTAMP:20260424T031905
CREATED:20241002T144650Z
LAST-MODIFIED:20260304T191255Z
UID:10001195-1800608400-1800619200@www.duluthtownship.gov
SUMMARY:Clerk Hours
DESCRIPTION:
URL:https://www.duluthtownship.gov/event/clerk-hours-7/2027-01-22/
END:VEVENT
BEGIN:VEVENT
DTSTART;TZID=America/Chicago:20270126T090000
DTEND;TZID=America/Chicago:20270126T120000
DTSTAMP:20260424T031905
CREATED:20250904T181818Z
LAST-MODIFIED:20260304T191409Z
UID:10002616-1800954000-1800964800@www.duluthtownship.gov
SUMMARY:Clerk Hours
DESCRIPTION:
URL:https://www.duluthtownship.gov/event/clerk-hours-8/2027-01-26/
END:VEVENT
BEGIN:VEVENT
DTSTART;TZID=America/Chicago:20270127T100000
DTEND;TZID=America/Chicago:20270127T160000
DTSTAMP:20260424T031905
CREATED:20250904T182853Z
LAST-MODIFIED:20251120T203831Z
UID:10003763-1801044000-1801065600@www.duluthtownship.gov
SUMMARY:Clerk Hours
DESCRIPTION:
URL:https://www.duluthtownship.gov/event/clerk-hours-3/2027-01-27/
END:VEVENT
BEGIN:VEVENT
DTSTART;TZID=America/Chicago:20270128T090000
DTEND;TZID=America/Chicago:20270128T170000
DTSTAMP:20260424T031905
CREATED:20250318T172841Z
LAST-MODIFIED:20251218T173225Z
UID:10002231-1801126800-1801155600@www.duluthtownship.gov
SUMMARY:Clerk Hours
DESCRIPTION:
URL:https://www.duluthtownship.gov/event/clerk-hours-5-2/2027-01-28/
END:VEVENT
BEGIN:VEVENT
DTSTART;TZID=America/Chicago:20270128T183000
DTEND;TZID=America/Chicago:20270128T210000
DTSTAMP:20260424T031905
CREATED:20241002T143512Z
LAST-MODIFIED:20251119T220014Z
UID:10000200-1801161000-1801170000@www.duluthtownship.gov
SUMMARY:Planning Commission Meeting
DESCRIPTION:
URL:https://www.duluthtownship.gov/event/planning-commission-meeting-3/2027-01-28/
END:VEVENT
BEGIN:VEVENT
DTSTART;TZID=America/Chicago:20270129T090000
DTEND;TZID=America/Chicago:20270129T120000
DTSTAMP:20260424T031905
CREATED:20241002T144650Z
LAST-MODIFIED:20260304T191255Z
UID:10001196-1801213200-1801224000@www.duluthtownship.gov
SUMMARY:Clerk Hours
DESCRIPTION:
URL:https://www.duluthtownship.gov/event/clerk-hours-7/2027-01-29/
END:VEVENT
END:VCALENDAR