BEGIN:VCALENDAR
VERSION:2.0
PRODID:-//Duluth Township in Northern Minnesota - ECPv6.15.20//NONSGML v1.0//EN
CALSCALE:GREGORIAN
METHOD:PUBLISH
X-ORIGINAL-URL:https://www.duluthtownship.gov
X-WR-CALDESC:Events for Duluth Township in Northern Minnesota
REFRESH-INTERVAL;VALUE=DURATION:PT1H
X-Robots-Tag:noindex
X-PUBLISHED-TTL:PT1H
BEGIN:VTIMEZONE
TZID:America/Chicago
BEGIN:DAYLIGHT
TZOFFSETFROM:-0600
TZOFFSETTO:-0500
TZNAME:CDT
DTSTART:20260308T080000
END:DAYLIGHT
BEGIN:STANDARD
TZOFFSETFROM:-0500
TZOFFSETTO:-0600
TZNAME:CST
DTSTART:20261101T070000
END:STANDARD
BEGIN:DAYLIGHT
TZOFFSETFROM:-0600
TZOFFSETTO:-0500
TZNAME:CDT
DTSTART:20270314T080000
END:DAYLIGHT
BEGIN:STANDARD
TZOFFSETFROM:-0500
TZOFFSETTO:-0600
TZNAME:CST
DTSTART:20271107T070000
END:STANDARD
BEGIN:DAYLIGHT
TZOFFSETFROM:-0600
TZOFFSETTO:-0500
TZNAME:CDT
DTSTART:20280312T080000
END:DAYLIGHT
BEGIN:STANDARD
TZOFFSETFROM:-0500
TZOFFSETTO:-0600
TZNAME:CST
DTSTART:20281105T070000
END:STANDARD
END:VTIMEZONE
BEGIN:VEVENT
DTSTART;TZID=America/Chicago:20270202T090000
DTEND;TZID=America/Chicago:20270202T120000
DTSTAMP:20260424T045620
CREATED:20250904T181818Z
LAST-MODIFIED:20260304T191409Z
UID:10002617-1801558800-1801569600@www.duluthtownship.gov
SUMMARY:Clerk Hours
DESCRIPTION:
URL:https://www.duluthtownship.gov/event/clerk-hours-8/2027-02-02/
END:VEVENT
BEGIN:VEVENT
DTSTART;TZID=America/Chicago:20270203T100000
DTEND;TZID=America/Chicago:20270203T160000
DTSTAMP:20260424T045620
CREATED:20250904T182853Z
LAST-MODIFIED:20251120T203831Z
UID:10003764-1801648800-1801670400@www.duluthtownship.gov
SUMMARY:Clerk Hours
DESCRIPTION:
URL:https://www.duluthtownship.gov/event/clerk-hours-3/2027-02-03/
END:VEVENT
BEGIN:VEVENT
DTSTART;TZID=America/Chicago:20270203T123000
DTEND;TZID=America/Chicago:20270203T140000
DTSTAMP:20260424T045620
CREATED:20250529T173929Z
LAST-MODIFIED:20250529T173929Z
UID:10002424-1801657800-1801663200@www.duluthtownship.gov
SUMMARY:Homesteaders
DESCRIPTION:
URL:https://www.duluthtownship.gov/event/homesteaders-3/2027-02-03/
END:VEVENT
BEGIN:VEVENT
DTSTART;TZID=America/Chicago:20270204T090000
DTEND;TZID=America/Chicago:20270204T170000
DTSTAMP:20260424T045620
CREATED:20250318T172841Z
LAST-MODIFIED:20251218T173225Z
UID:10002232-1801731600-1801760400@www.duluthtownship.gov
SUMMARY:Clerk Hours
DESCRIPTION:
URL:https://www.duluthtownship.gov/event/clerk-hours-5-2/2027-02-04/
END:VEVENT
BEGIN:VEVENT
DTSTART;TZID=America/Chicago:20270205T090000
DTEND;TZID=America/Chicago:20270205T120000
DTSTAMP:20260424T045620
CREATED:20241002T144650Z
LAST-MODIFIED:20260304T191255Z
UID:10001197-1801818000-1801828800@www.duluthtownship.gov
SUMMARY:Clerk Hours
DESCRIPTION:
URL:https://www.duluthtownship.gov/event/clerk-hours-7/2027-02-05/
END:VEVENT
BEGIN:VEVENT
DTSTART;TZID=America/Chicago:20270209T090000
DTEND;TZID=America/Chicago:20270209T120000
DTSTAMP:20260424T045620
CREATED:20250904T181818Z
LAST-MODIFIED:20260304T191409Z
UID:10002618-1802163600-1802174400@www.duluthtownship.gov
SUMMARY:Clerk Hours
DESCRIPTION:
URL:https://www.duluthtownship.gov/event/clerk-hours-8/2027-02-09/
END:VEVENT
BEGIN:VEVENT
DTSTART;TZID=America/Chicago:20270210T100000
DTEND;TZID=America/Chicago:20270210T160000
DTSTAMP:20260424T045620
CREATED:20250904T182853Z
LAST-MODIFIED:20251120T203831Z
UID:10003765-1802253600-1802275200@www.duluthtownship.gov
SUMMARY:Clerk Hours
DESCRIPTION:
URL:https://www.duluthtownship.gov/event/clerk-hours-3/2027-02-10/
END:VEVENT
BEGIN:VEVENT
DTSTART;TZID=America/Chicago:20270211T090000
DTEND;TZID=America/Chicago:20270211T170000
DTSTAMP:20260424T045620
CREATED:20250318T172841Z
LAST-MODIFIED:20251218T173225Z
UID:10002233-1802336400-1802365200@www.duluthtownship.gov
SUMMARY:Clerk Hours
DESCRIPTION:
URL:https://www.duluthtownship.gov/event/clerk-hours-5-2/2027-02-11/
END:VEVENT
BEGIN:VEVENT
DTSTART;TZID=America/Chicago:20270211T183000
DTEND;TZID=America/Chicago:20270211T210000
DTSTAMP:20260424T045620
CREATED:20241002T143345Z
LAST-MODIFIED:20241002T143644Z
UID:10000261-1802370600-1802379600@www.duluthtownship.gov
SUMMARY:Town Board Meeting
DESCRIPTION:
URL:https://www.duluthtownship.gov/event/town-board-meeting-3/2027-02-11/
END:VEVENT
BEGIN:VEVENT
DTSTART;TZID=America/Chicago:20270212T090000
DTEND;TZID=America/Chicago:20270212T120000
DTSTAMP:20260424T045620
CREATED:20241002T144650Z
LAST-MODIFIED:20260304T191255Z
UID:10001198-1802422800-1802433600@www.duluthtownship.gov
SUMMARY:Clerk Hours
DESCRIPTION:
URL:https://www.duluthtownship.gov/event/clerk-hours-7/2027-02-12/
END:VEVENT
BEGIN:VEVENT
DTSTART;TZID=America/Chicago:20270216T090000
DTEND;TZID=America/Chicago:20270216T120000
DTSTAMP:20260424T045620
CREATED:20250904T181818Z
LAST-MODIFIED:20260304T191409Z
UID:10002619-1802768400-1802779200@www.duluthtownship.gov
SUMMARY:Clerk Hours
DESCRIPTION:
URL:https://www.duluthtownship.gov/event/clerk-hours-8/2027-02-16/
END:VEVENT
BEGIN:VEVENT
DTSTART;TZID=America/Chicago:20270217T100000
DTEND;TZID=America/Chicago:20270217T160000
DTSTAMP:20260424T045620
CREATED:20250904T182853Z
LAST-MODIFIED:20251120T203831Z
UID:10003766-1802858400-1802880000@www.duluthtownship.gov
SUMMARY:Clerk Hours
DESCRIPTION:
URL:https://www.duluthtownship.gov/event/clerk-hours-3/2027-02-17/
END:VEVENT
BEGIN:VEVENT
DTSTART;TZID=America/Chicago:20270218T090000
DTEND;TZID=America/Chicago:20270218T170000
DTSTAMP:20260424T045620
CREATED:20250318T172841Z
LAST-MODIFIED:20251218T173225Z
UID:10002234-1802941200-1802970000@www.duluthtownship.gov
SUMMARY:Clerk Hours
DESCRIPTION:
URL:https://www.duluthtownship.gov/event/clerk-hours-5-2/2027-02-18/
END:VEVENT
BEGIN:VEVENT
DTSTART;TZID=America/Chicago:20270219T090000
DTEND;TZID=America/Chicago:20270219T120000
DTSTAMP:20260424T045620
CREATED:20241002T144650Z
LAST-MODIFIED:20260304T191255Z
UID:10001199-1803027600-1803038400@www.duluthtownship.gov
SUMMARY:Clerk Hours
DESCRIPTION:
URL:https://www.duluthtownship.gov/event/clerk-hours-7/2027-02-19/
END:VEVENT
BEGIN:VEVENT
DTSTART;TZID=America/Chicago:20270223T090000
DTEND;TZID=America/Chicago:20270223T120000
DTSTAMP:20260424T045620
CREATED:20250904T181818Z
LAST-MODIFIED:20260304T191409Z
UID:10002620-1803373200-1803384000@www.duluthtownship.gov
SUMMARY:Clerk Hours
DESCRIPTION:
URL:https://www.duluthtownship.gov/event/clerk-hours-8/2027-02-23/
END:VEVENT
BEGIN:VEVENT
DTSTART;TZID=America/Chicago:20270224T100000
DTEND;TZID=America/Chicago:20270224T160000
DTSTAMP:20260424T045620
CREATED:20250904T182853Z
LAST-MODIFIED:20251120T203831Z
UID:10003767-1803463200-1803484800@www.duluthtownship.gov
SUMMARY:Clerk Hours
DESCRIPTION:
URL:https://www.duluthtownship.gov/event/clerk-hours-3/2027-02-24/
END:VEVENT
BEGIN:VEVENT
DTSTART;TZID=America/Chicago:20270225T090000
DTEND;TZID=America/Chicago:20270225T170000
DTSTAMP:20260424T045620
CREATED:20250318T172841Z
LAST-MODIFIED:20251218T173225Z
UID:10002235-1803546000-1803574800@www.duluthtownship.gov
SUMMARY:Clerk Hours
DESCRIPTION:
URL:https://www.duluthtownship.gov/event/clerk-hours-5-2/2027-02-25/
END:VEVENT
BEGIN:VEVENT
DTSTART;TZID=America/Chicago:20270225T183000
DTEND;TZID=America/Chicago:20270225T210000
DTSTAMP:20260424T045621
CREATED:20241002T143512Z
LAST-MODIFIED:20251119T220014Z
UID:10000201-1803580200-1803589200@www.duluthtownship.gov
SUMMARY:Planning Commission Meeting
DESCRIPTION:
URL:https://www.duluthtownship.gov/event/planning-commission-meeting-3/2027-02-25/
END:VEVENT
BEGIN:VEVENT
DTSTART;TZID=America/Chicago:20270226T090000
DTEND;TZID=America/Chicago:20270226T120000
DTSTAMP:20260424T045621
CREATED:20241002T144650Z
LAST-MODIFIED:20260304T191255Z
UID:10001200-1803632400-1803643200@www.duluthtownship.gov
SUMMARY:Clerk Hours
DESCRIPTION:
URL:https://www.duluthtownship.gov/event/clerk-hours-7/2027-02-26/
END:VEVENT
END:VCALENDAR